BEGIN:VCALENDAR
VERSION:2.0
PRODID:-//ChamberMaster//Event Calendar 2.0//EN
METHOD:PUBLISH
X-PUBLISHED-TTL:P3D
REFRESH-INTERVAL:P3D
CALSCALE:GREGORIAN
BEGIN:VEVENT
DTSTART:20180713T003000Z
DTEND:20180713T020000Z
X-MICROSOFT-CDO-ALLDAYEVENT:FALSE
SUMMARY:Joint Chamber Mixer with Fairfield Suisun Chamber- Hosted by Vezer Family Vineyards
DESCRIPTION:Join us for a Joint Chamber Mixer with the Fairfield Suisun Chamber hosted by Vezer Family Vineyards.
X-ALT-DESC;FMTTYPE=text/html:Join us for a Joint Chamber Mixer with the Fairfield Suisun Chamber hosted by Vezer Family Vineyards.
LOCATION:2522 Mankas Corner Rd Fairfield\, CA 94534
UID:e.1559.2043
SEQUENCE:3
DTSTAMP:20260419T155256Z
URL:https://business.vacavillechamber.com/events/details/joint-chamber-mixer-with-fairfield-suisun-chamber-hosted-by-vezer-family-vineyards-2043
END:VEVENT

END:VCALENDAR
