BEGIN:VCALENDAR
VERSION:2.0
PRODID:-//ChamberMaster//Event Calendar 2.0//EN
METHOD:PUBLISH
X-PUBLISHED-TTL:P3D
REFRESH-INTERVAL:P3D
CALSCALE:GREGORIAN
BEGIN:VEVENT
DTSTART:20170714T003000Z
DTEND:20170714T020000Z
X-MICROSOFT-CDO-ALLDAYEVENT:FALSE
SUMMARY:Joint Chamber Mixer with Fairfield Suisun Chamber
DESCRIPTION:Joint us and our host Driven Raceway\, for our Joint Chamber Mixer with the Fairfield Suisun Chamber!
X-ALT-DESC;FMTTYPE=text/html:Joint us and our host Driven Raceway\, for our Joint Chamber Mixer with the Fairfield Suisun Chamber!
LOCATION:Driven Raceway 1560 Gateway Blvd\, Fairfield
UID:e.1559.1957
SEQUENCE:3
DTSTAMP:20260420T082522Z
URL:https://business.vacavillechamber.com/events/details/joint-chamber-mixer-with-fairfield-suisun-chamber-1957
END:VEVENT

END:VCALENDAR
