BEGIN:VCALENDAR
VERSION:2.0
PRODID:-//ChamberMaster//Event Calendar 2.0//EN
METHOD:PUBLISH
X-PUBLISHED-TTL:P3D
REFRESH-INTERVAL:P3D
CALSCALE:GREGORIAN
BEGIN:VEVENT
DTSTART:20180511T003000Z
DTEND:20180511T020000Z
X-MICROSOFT-CDO-ALLDAYEVENT:FALSE
SUMMARY:Joint Chamber Mixer @ NorthBay Healthcare
DESCRIPTION:Join us for our Joint Mixer with Fairfield Suisun Chamber hosted by NorthBay Healthcare!
X-ALT-DESC;FMTTYPE=text/html:<span style="font-family: &quot\;Trebuchet MS&quot\;\, Arial\, Helvetica\, Geneva\, Swiss\, SunSans-Regular\; font-size: 16px\;">Join us for our Joint Mixer with Fairfield Suisun Chamber hosted by NorthBay Healthcare!</span>
LOCATION:4500 Business Center Drive Fairfield\, CA
UID:e.1559.2039
SEQUENCE:3
DTSTAMP:20260419T184713Z
URL:https://business.vacavillechamber.com/events/details/joint-chamber-mixer-northbay-healthcare-2039
END:VEVENT

END:VCALENDAR
