BEGIN:VCALENDAR
VERSION:2.0
PRODID:-//ChamberMaster//Event Calendar 2.0//EN
METHOD:PUBLISH
X-PUBLISHED-TTL:P3D
REFRESH-INTERVAL:P3D
CALSCALE:GREGORIAN
BEGIN:VEVENT
DTSTART:20170414T003000Z
DTEND:20170414T020000Z
X-MICROSOFT-CDO-ALLDAYEVENT:FALSE
SUMMARY:Joint Chamber Mixer @ NorthBay Healthcare
DESCRIPTION:Join us for our Joint Mixer with Fairfield Suisun Chamber hosted by NorthBay Healthcare!
X-ALT-DESC;FMTTYPE=text/html:Join us for our Joint Mixer with Fairfield Suisun Chamber hosted by NorthBay Healthcare!
LOCATION:4500 Business Center Drive\, Fairfield
UID:e.1559.1945
SEQUENCE:3
DTSTAMP:20260420T122115Z
URL:https://business.vacavillechamber.com/events/details/joint-chamber-mixer-northbay-healthcare-1945
END:VEVENT

END:VCALENDAR
