BEGIN:VCALENDAR
VERSION:2.0
PRODID:-//ChamberMaster//Event Calendar 2.0//EN
METHOD:PUBLISH
X-PUBLISHED-TTL:P3D
REFRESH-INTERVAL:P3D
CALSCALE:GREGORIAN
BEGIN:VEVENT
DTSTART:20171006T003000Z
DTEND:20171006T020000Z
X-MICROSOFT-CDO-ALLDAYEVENT:FALSE
SUMMARY:Joint Chamber Mixer in Downtown Vacaville
DESCRIPTION:Joint Chamber Mixer with Fairfield-Suisun Chamber hosted by:\n\nFox Real Estate Group\, Vacaville Opera House and Downtown Vacaville businesses.
X-ALT-DESC;FMTTYPE=text/html:Joint Chamber Mixer with&nbsp\;Fairfield-Suisun&nbsp\;Chamber hosted by:<br />\nFox Real Estate Group\, Vacaville Opera House and Downtown Vacaville businesses.
LOCATION:Downtown Vacaville Townsquare
UID:e.1559.1948
SEQUENCE:3
DTSTAMP:20260420T042047Z
URL:https://business.vacavillechamber.com/events/details/joint-chamber-mixer-in-downtown-vacaville-1948
END:VEVENT

END:VCALENDAR
