BEGIN:VCALENDAR
VERSION:2.0
PRODID:-//ChamberMaster//Event Calendar 2.0//EN
METHOD:PUBLISH
X-PUBLISHED-TTL:P3D
REFRESH-INTERVAL:P3D
CALSCALE:GREGORIAN
BEGIN:VEVENT
DTSTART:20161007T003000Z
DTEND:20161007T020000Z
X-MICROSOFT-CDO-ALLDAYEVENT:FALSE
SUMMARY:Joint Chamber Mixer in Downtown Vacaville
DESCRIPTION:Joint Chamber Mixer with Fairfield-Suisun Chamber hosted by:\n\nFox Real Estate Group\n\nOn Q Financial \n\nRecology    \n\nVacaville Opera House
X-ALT-DESC;FMTTYPE=text/html:Joint Chamber Mixer with Fairfield-Suisun Chamber hosted by:<br />\nFox Real Estate Group<br />\nOn Q Financial&nbsp\;<br />\nRecology&nbsp\;&nbsp\;&nbsp\;&nbsp\;<br />\nVacaville Opera House
LOCATION:Downtown Vacaville - Town Square 1 Town Square Place Vacaville\, CA 95688
UID:e.1559.1895
SEQUENCE:3
DTSTAMP:20260420T194919Z
URL:https://business.vacavillechamber.com/events/details/joint-chamber-mixer-in-downtown-vacaville-1895
END:VEVENT

END:VCALENDAR
