BEGIN:VCALENDAR
VERSION:2.0
PRODID:-//ChamberMaster//Event Calendar 2.0//EN
METHOD:PUBLISH
X-PUBLISHED-TTL:P3D
REFRESH-INTERVAL:P3D
CALSCALE:GREGORIAN
BEGIN:VEVENT
DTSTART:20180608T003000Z
DTEND:20180608T020000Z
X-MICROSOFT-CDO-ALLDAYEVENT:FALSE
SUMMARY:Joint Chamber Mixer- Hosted by The Big 4
DESCRIPTION:Join us for a Joint Chamber Mixer hosted by The Big 4! Vacaville Chamber\, City of Vacaville\, Downtown Vacaville and Visit Vacaville invite you to join us for a evening of networking\, appetizers\, drinks and raffles.\n\n\n\nFind out more about the Big 4 and the status on various projects!
X-ALT-DESC;FMTTYPE=text/html:Join us for a Joint Chamber Mixer hosted by The Big 4! Vacaville Chamber\, City of Vacaville\, Downtown Vacaville and Visit Vacaville invite you to join us for a evening of networking\, appetizers\, drinks and raffles.<br />\n<br />\nFind out more about the Big 4 and the status on various projects!&nbsp\;
LOCATION:Ulatis Gardens 1000 Ulatis Dr\, Vacaville
UID:e.1559.2041
SEQUENCE:3
DTSTAMP:20260419T171455Z
URL:https://business.vacavillechamber.com/events/details/joint-chamber-mixer-hosted-by-the-big-4-2041
END:VEVENT

END:VCALENDAR
