BEGIN:VCALENDAR
VERSION:2.0
PRODID:-//ChamberMaster//Event Calendar 2.0//EN
METHOD:PUBLISH
X-PUBLISHED-TTL:P3D
REFRESH-INTERVAL:P3D
CALSCALE:GREGORIAN
BEGIN:VEVENT
DTSTART:20170113T013000Z
DTEND:20170113T030000Z
X-MICROSOFT-CDO-ALLDAYEVENT:FALSE
SUMMARY:Joint Chamber Mixer at Solano Community College Vacaville Center
DESCRIPTION:Joint Chamber Mixer with Fairfield-Suisun Chamber\, and Dixon Chamber of Commerce. Hosted by Solano Community College Educational Foundation.
X-ALT-DESC;FMTTYPE=text/html:Joint Chamber Mixer with Fairfield-Suisun&nbsp\;Chamber\, and Dixon Chamber of Commerce. Hosted by Solano Community College Educational Foundation.&nbsp\;
LOCATION:Solano Community College Vacaville Center 2001 North Village Parkway Vacaville\, CA 95688
UID:e.1559.1930
SEQUENCE:3
DTSTAMP:20260420T162302Z
URL:https://business.vacavillechamber.com/events/details/joint-chamber-mixer-at-solano-community-college-vacaville-center-1930
END:VEVENT

END:VCALENDAR
