BEGIN:VCALENDAR
VERSION:2.0
PRODID:-//ChamberMaster//Event Calendar 2.0//EN
METHOD:PUBLISH
X-PUBLISHED-TTL:P3D
REFRESH-INTERVAL:P3D
CALSCALE:GREGORIAN
BEGIN:VEVENT
DTSTART:20170325T170000Z
DTEND:20170325T190000Z
X-MICROSOFT-CDO-ALLDAYEVENT:FALSE
SUMMARY:Jelly Belly- Ribbon Cutting
DESCRIPTION:Celebrate Jelly Belly's new location at the Vacaville Premiere Outlets!
X-ALT-DESC;FMTTYPE=text/html:Celebrate Jelly Belly&#39\;s new location at the Vacaville Premiere Outlets!&nbsp\;
LOCATION:278 Nut Tree Road\, Vacaville
UID:e.1559.1969
SEQUENCE:3
DTSTAMP:20260420T132910Z
URL:https://business.vacavillechamber.com/events/details/jelly-belly-ribbon-cutting-1969
END:VEVENT

END:VCALENDAR
