BEGIN:VCALENDAR
VERSION:2.0
PRODID:-//ChamberMaster//Event Calendar 2.0//EN
METHOD:PUBLISH
X-PUBLISHED-TTL:P3D
REFRESH-INTERVAL:P3D
CALSCALE:GREGORIAN
BEGIN:VEVENT
DTSTART:20150804T233000Z
DTEND:20150805T010000Z
X-MICROSOFT-CDO-ALLDAYEVENT:FALSE
SUMMARY:Introduction to LinkedIn
DESCRIPTION:Learn how to use the growing business-oriented social networking service to your advantage.
X-ALT-DESC;FMTTYPE=text/html:Learn how to use the growing business-oriented social networking service to your advantage.
LOCATION:Vacaville Chamber of Commerce\, Conference Room
UID:e.1559.1753
SEQUENCE:3
DTSTAMP:20260421T132228Z
URL:https://business.vacavillechamber.com/events/details/introduction-to-linkedin-08-04-2015-1753
END:VEVENT

END:VCALENDAR
