BEGIN:VCALENDAR
VERSION:2.0
PRODID:-//ChamberMaster//Event Calendar 2.0//EN
METHOD:PUBLISH
X-PUBLISHED-TTL:P3D
REFRESH-INTERVAL:P3D
CALSCALE:GREGORIAN
BEGIN:VEVENT
DTSTART:20180301T200000Z
DTEND:20180302T013000Z
X-MICROSOFT-CDO-ALLDAYEVENT:FALSE
SUMMARY:Innovation Summit
DESCRIPTION:Five dynamic speakers will present innovative ideas to spark business leaders' imaginations. Presentations will appeal to a diverse audience and help stimulate 'what if' thinking in your workplace.\n\n\n\nWilliam K Wesley\, Full Life Balance  - Six Secrets for Success!\n\n\n\nChris Smith & Kevin Moses\, ZnapFly - Emerging Drone Technologies are the New Disrupters\n\n\n\nJim Carriere\, ShelterBox USA - Strategic Teambuilding for Effective Crisis Response\n\n\n\nCapt. McGuire\, USAF - Cutting the Red Tape: Creating an Innovative Culture\n\n\n\nMaribel Lopez\, Data for Betterment - Artificial Intelligence is Improving Business\, Are You Ready?\n\n\n\nCheck us out on Facebook!
X-ALT-DESC;FMTTYPE=text/html:Five dynamic speakers will present innovative ideas to spark business leaders&#39\; imaginations. Presentations will appeal to a diverse audience and help stimulate &#39\;what if&#39\; thinking in your workplace.<br />\n<br />\nWilliam K Wesley\, Full Life Balance&nbsp\; - Six Secrets for Success!<br />\n<br />\nChris Smith &amp\; Kevin Moses\, ZnapFly&nbsp\;- Emerging Drone Technologies are the New Disrupters<br />\n<br />\nJim Carriere\, ShelterBox USA - Strategic Teambuilding for Effective Crisis Response<br />\n<br />\nCapt. McGuire\, USAF - Cutting the Red Tape: Creating an Innovative Culture<br />\n<br />\nMaribel Lopez\, Data for Betterment - Artificial Intelligence is Improving Business\, Are You Ready?<br />\n<br />\nCheck us out on Facebook!<br />\n&nbsp\;
LOCATION:Sunrise Event Center 620 Orange Drive Vacaville CA 95688
UID:e.1559.2025
SEQUENCE:3
DTSTAMP:20260419T213510Z
URL:https://business.vacavillechamber.com/events/details/innovation-summit-2025
END:VEVENT

END:VCALENDAR
