BEGIN:VCALENDAR
VERSION:2.0
PRODID:-//ChamberMaster//Event Calendar 2.0//EN
METHOD:PUBLISH
X-PUBLISHED-TTL:P3D
REFRESH-INTERVAL:P3D
CALSCALE:GREGORIAN
BEGIN:VEVENT
DTSTART:20170302T193000Z
DTEND:20170303T013000Z
X-MICROSOFT-CDO-ALLDAYEVENT:FALSE
SUMMARY:Innovation Expo 2017
DESCRIPTION:Join us for Innovation Expo 2017! Spend the afternoon listening to inspirational speakers from around the country! Five presentations will focus on topics that you can apply at your business immediately.\n\n\n\nStay after the Closing Keynote Speaker for a Reception/Mixer that is open to all attendees from 5:30-7:00 pm.
X-ALT-DESC;FMTTYPE=text/html:Join us for Innovation Expo 2017! Spend the afternoon listening to inspirational speakers from around the country! Five presentations will focus on topics that you can apply at your business immediately.<br />\n<br />\nStay after the Closing Keynote Speaker for a Reception/Mixer that is open to all attendees from 5:30-7:00 pm.
LOCATION:Sunrise Banquet Hall and Event Center 620 Orange Drive Vacaville\, CA 95688
UID:e.1559.1922
SEQUENCE:3
DTSTAMP:20260420T132714Z
URL:https://business.vacavillechamber.com/events/details/innovation-expo-2017-1922
END:VEVENT

END:VCALENDAR
