BEGIN:VCALENDAR
VERSION:2.0
PRODID:-//ChamberMaster//Event Calendar 2.0//EN
METHOD:PUBLISH
X-PUBLISHED-TTL:P3D
REFRESH-INTERVAL:P3D
CALSCALE:GREGORIAN
BEGIN:VEVENT
DTSTART:20151031T170000Z
DTEND:20151031T210000Z
X-MICROSOFT-CDO-ALLDAYEVENT:FALSE
SUMMARY:Howl-O-Ween
DESCRIPTION:HOWL-O-WEEN WHO LET THE DOGS OUT? Saturday\, October 31st from 10:00 am-2:00 pm Andrews Park Vacaville\, CA This Howl-O-Ween\, bring your friendly dog to the park to enjoy music\, treats\, pet vendors\, and dog demonstrations. Event admission is free\; Pooch Parade early registration fee is $5 per dog. Dogs must be licensed\, vaccinated\, and leashed. Wear your costume and have a doggone good time\, bring your human too! For more information or if you are interested in being a vendor\, please call (707) 469-6674 or visit our website at cityofvacaville.com.
X-ALT-DESC;FMTTYPE=text/html:HOWL-O-WEEN WHO LET THE DOGS OUT? Saturday\, October 31st from 10:00 am-2:00 pm Andrews Park Vacaville\, CA This Howl-O-Ween\, bring your friendly dog to the park to enjoy music\, treats\, pet vendors\, and dog demonstrations. Event admission is free\; Pooch Parade early registration fee is $5 per dog. Dogs must be licensed\, vaccinated\, and leashed. Wear your costume and have a doggone good time\, bring your human too! For more information or if you are interested in being a vendor\, please call (707) 469-6674 or visit our website at cityofvacaville.com.
LOCATION:Andrews Park Vacaville
UID:e.1559.1780
SEQUENCE:3
DTSTAMP:20260421T105218Z
URL:https://business.vacavillechamber.com/events/details/howl-o-ween-10-31-2015-1780
END:VEVENT

END:VCALENDAR
