BEGIN:VCALENDAR
VERSION:2.0
PRODID:-//ChamberMaster//Event Calendar 2.0//EN
METHOD:PUBLISH
X-PUBLISHED-TTL:P3D
REFRESH-INTERVAL:P3D
CALSCALE:GREGORIAN
BEGIN:VEVENT
DTSTART:20170929T160000Z
DTEND:20170929T190000Z
X-MICROSOFT-CDO-ALLDAYEVENT:FALSE
SUMMARY:How to do Business with the State of California
DESCRIPTION:California wants to buy your products or services. Are you ready to sell them? This workshop will give you an opportunity to network with local government advocates and buyers like Dept of General Services (DGS)\, Bay Area Rapid Transit (BART)\, CDCR (CA Dept of Corrections & Rehabilitation)\, CAL FIRE\, CHP\, Consumer Affairs\, CPUC (CA Public Utilities Commission) and possible other state agencies! The state of California is the SIXTH largest economy in the WORLD! State agencies purchase everything from office supplies to construction services to goat rentals (seriously!)\, and everything in between. If you sell it\, they probably buy it! You will learn how to:   Find\, bid on and win state government contracts   Navigate Cal eProcure   Easily get certified as a Small Business or Disabled Veteran Business Enterprise (SB/DVBE)   Market your business to state agencies   Advertise to prime contractors   Receive free procurement assistance from Norcal PTAC Featured Speaker: Wayne Gross\, SB/DVBE Advocate for the State of California Department of General Services\, Procurement Division. Wayne educates businesses seeking to understand and navigate the State's procurement system. This is a free event. Parking passes are available on-site at kiosks for $1. This event is sponsored by the CA Department of General Services. Register here: https://vallejobiz.eventbrite.com
X-ALT-DESC;FMTTYPE=text/html:California wants to buy your products or services. Are you ready to sell them? This workshop will give you an opportunity to network with local government advocates and buyers like Dept of General Services (DGS)\, Bay Area Rapid Transit (BART)\, CDCR (CA Dept of Corrections &amp\; Rehabilitation)\, CAL FIRE\, CHP\, Consumer Affairs\, CPUC (CA Public Utilities Commission) and possible other state agencies! The state of California is the SIXTH largest economy in the WORLD! State agencies purchase everything from office supplies to construction services to goat rentals (seriously!)\, and everything in between. If you sell it\, they probably buy it! You will learn how to: &bull\; Find\, bid on and win state government contracts &bull\; Navigate Cal eProcure &bull\; Easily get certified as a Small Business or Disabled Veteran Business Enterprise (SB/DVBE) &bull\; Market your business to state agencies &bull\; Advertise to prime contractors &bull\; Receive free procurement assistance from Norcal PTAC Featured Speaker: Wayne Gross\, SB/DVBE Advocate for the State of California Department of General Services\, Procurement Division. Wayne educates businesses seeking to understand and navigate the State&rsquo\;s procurement system. This is a free event. Parking passes are available on-site at kiosks for $1. This event is sponsored by the CA Department of General Services. Register here: https://vallejobiz.eventbrite.com
LOCATION:Solano Community College (Vallejo Center) 545 Columbus Pkwy\, Room 133 Vallejo\, CA 94591
UID:e.1559.2015
SEQUENCE:3
DTSTAMP:20260420T053812Z
URL:https://business.vacavillechamber.com/events/details/how-to-do-business-with-the-state-of-california-2015
END:VEVENT

END:VCALENDAR
