BEGIN:VCALENDAR
VERSION:2.0
PRODID:-//ChamberMaster//Event Calendar 2.0//EN
METHOD:PUBLISH
X-PUBLISHED-TTL:P3D
REFRESH-INTERVAL:P3D
CALSCALE:GREGORIAN
BEGIN:VEVENT
DTSTART:20161220T153000Z
DTEND:20161220T173000Z
X-MICROSOFT-CDO-ALLDAYEVENT:FALSE
SUMMARY:Holiday Wake-Up Breakfast
DESCRIPTION:Annual Holiday Wake-Up Breakfast\n\n\n\nBring a unwrapped item for the gift exchange and make sure it has your business card on it!
X-ALT-DESC;FMTTYPE=text/html:Annual Holiday Wake-Up Breakfast<br />\n<br />\nBring a unwrapped item for the gift exchange and make sure it has your business card on it!
LOCATION:Hampton Inn & Suites 800 Mason Street
UID:e.1559.1923
SEQUENCE:3
DTSTAMP:20260420T172859Z
URL:https://business.vacavillechamber.com/events/details/holiday-wake-up-breakfast-1923
END:VEVENT

END:VCALENDAR
