BEGIN:VCALENDAR
VERSION:2.0
PRODID:-//ChamberMaster//Event Calendar 2.0//EN
METHOD:PUBLISH
X-PUBLISHED-TTL:P3D
REFRESH-INTERVAL:P3D
CALSCALE:GREGORIAN
BEGIN:VEVENT
DTSTART:20141216T153000Z
DTEND:20141216T173000Z
X-MICROSOFT-CDO-ALLDAYEVENT:FALSE
SUMMARY:Holiday Wake-Up
DESCRIPTION:Join us for our Holiday Wake-Up on Tuesday\, December 16th from 7:30 a.m. - 9:30 a.m. at the Hampton Inn & Suites. This festive holiday event is hosted by All Size Flooring & Carpert Cleaning\, KR Insurance & Financial Services and Jackson Medical Supply. Please bring a "gift" for the raffle.\n\nThe Chamber is having a canned food drive benefiting the Solano Food Bank. Please consider bringing canned food items to donate.
X-ALT-DESC;FMTTYPE=text/html:Join us for our Holiday Wake-Up on Tuesday\, December 16th from 7:30 a.m. - 9:30 a.m. at the Hampton Inn &amp\; Suites. This festive holiday event is hosted by All Size Flooring &amp\; Carpert Cleaning\, KR Insurance &amp\; Financial Services and Jackson Medical Supply. Please bring a &quot\;gift&quot\; for the raffle.<br />\nThe Chamber is having a canned food drive benefiting the Solano Food Bank. Please consider bringing canned food items to donate.
LOCATION:Hampton Inn & Suites\, 800 Mason Street\, Vacaville
UID:e.1559.1585
SEQUENCE:3
DTSTAMP:20260422T001210Z
URL:https://business.vacavillechamber.com/events/details/holiday-wake-up-12-16-2014-1585
END:VEVENT

END:VCALENDAR
