BEGIN:VCALENDAR
VERSION:2.0
PRODID:-//ChamberMaster//Event Calendar 2.0//EN
METHOD:PUBLISH
X-PUBLISHED-TTL:P3D
REFRESH-INTERVAL:P3D
CALSCALE:GREGORIAN
BEGIN:VEVENT
DTSTART:20171219T153000Z
DTEND:20171219T170000Z
X-MICROSOFT-CDO-ALLDAYEVENT:FALSE
SUMMARY:Holiday Morning Wake Up!
DESCRIPTION:Join us and our hosts Alllsize Flooring Center\, Jackson Medical Supply\, Allstate-KR Insurance and Financial Services\, and Stems Florist for our annual Holiday Wake Up!
X-ALT-DESC;FMTTYPE=text/html:Join us and our hosts Alllsize&nbsp\;Flooring Center\, Jackson Medical Supply\, Allstate-KR Insurance and Financial&nbsp\;Services\, and Stems Florist for our annual Holiday Wake Up!
LOCATION:Hampton Inn & Suites 800 Mason Street Vacaville
UID:e.1559.1952
SEQUENCE:3
DTSTAMP:20260420T013851Z
URL:https://business.vacavillechamber.com/events/details/holiday-morning-wake-up-1952
END:VEVENT

END:VCALENDAR
