BEGIN:VCALENDAR
VERSION:2.0
PRODID:-//ChamberMaster//Event Calendar 2.0//EN
METHOD:PUBLISH
X-PUBLISHED-TTL:P3D
REFRESH-INTERVAL:P3D
CALSCALE:GREGORIAN
BEGIN:VEVENT
DTSTART:20171208T013000Z
DTEND:20171208T030000Z
X-MICROSOFT-CDO-ALLDAYEVENT:FALSE
SUMMARY:Holiday Mixer Hosted by Travis Credit Union
DESCRIPTION:Join us for our Annual Holiday Mixer hosted by Travis Credit Union!\n\n\n\nEnjoy food\, wine\, raffle prizes and great networking!
X-ALT-DESC;FMTTYPE=text/html:Join us for our Annual Holiday Mixer hosted by Travis Credit Union!<br />\n<br />\nEnjoy food\, wine\, raffle prizes and great networking!<br />\n<br />\n<br />\n&nbsp\;
LOCATION:1 Travis Way\, Vacaville Community Room
UID:e.1559.1951
SEQUENCE:3
DTSTAMP:20260420T014045Z
URL:https://business.vacavillechamber.com/events/details/holiday-mixer-hosted-by-travis-credit-union-1951
END:VEVENT

END:VCALENDAR
