BEGIN:VCALENDAR
VERSION:2.0
PRODID:-//ChamberMaster//Event Calendar 2.0//EN
METHOD:PUBLISH
X-PUBLISHED-TTL:P3D
REFRESH-INTERVAL:P3D
CALSCALE:GREGORIAN
BEGIN:VEVENT
DTSTART:20161202T013000Z
DTEND:20161202T030000Z
X-MICROSOFT-CDO-ALLDAYEVENT:FALSE
SUMMARY:Holiday Mixer Hosted by Travis Credit Union
DESCRIPTION:Holiday Mixer- Enjoy food\, wine. raffle prizes and great networking!
X-ALT-DESC;FMTTYPE=text/html:Holiday Mixer- Enjoy food\, wine. raffle prizes and great networking!
LOCATION:Travis Credit Union Community Room 1 Travis Way Vacaville\, CA 95688
UID:e.1559.1927
SEQUENCE:3
DTSTAMP:20260420T173301Z
URL:https://business.vacavillechamber.com/events/details/holiday-mixer-hosted-by-travis-credit-union-1927
END:VEVENT

END:VCALENDAR
