BEGIN:VCALENDAR
VERSION:2.0
PRODID:-//ChamberMaster//Event Calendar 2.0//EN
METHOD:PUBLISH
X-PUBLISHED-TTL:P3D
REFRESH-INTERVAL:P3D
CALSCALE:GREGORIAN
BEGIN:VEVENT
DTSTART:20141205T013000Z
DTEND:20141205T033000Z
X-MICROSOFT-CDO-ALLDAYEVENT:FALSE
SUMMARY:Holiday Mixer hosted by Travis Credit Union
DESCRIPTION:
X-ALT-DESC;FMTTYPE=text/html:
LOCATION:1 Travis Way\, Vacaville\, CA 95688
UID:e.1559.1582
SEQUENCE:3
DTSTAMP:20260422T001431Z
URL:https://business.vacavillechamber.com/events/details/holiday-mixer-hosted-by-travis-credit-union-12-04-2014-1582
END:VEVENT

END:VCALENDAR
