BEGIN:VCALENDAR
VERSION:2.0
PRODID:-//ChamberMaster//Event Calendar 2.0//EN
METHOD:PUBLISH
X-PUBLISHED-TTL:P3D
REFRESH-INTERVAL:P3D
CALSCALE:GREGORIAN
BEGIN:VEVENT
DTSTART:20180603T170000Z
DTEND:20180604T000000Z
X-MICROSOFT-CDO-ALLDAYEVENT:FALSE
SUMMARY:Heritage\, The Legacy of the Tuskegee Airmen Community Open House
DESCRIPTION:https://www.eventbrite.com/e/heritage-the-legacy-of-the-tuskegee-airmen-tickets-44568949929
X-ALT-DESC;FMTTYPE=text/html:<a href="https://www.eventbrite.com/e/heritage-the-legacy-of-the-tuskegee-airmen-tickets-44568949929">https://www.eventbrite.com/e/heritage-the-legacy-of-the-tuskegee-airmen-tickets-44568949929</a>
LOCATION:
UID:e.1559.2096
SEQUENCE:3
DTSTAMP:20260419T172219Z
URL:https://business.vacavillechamber.com/events/details/heritage-the-legacy-of-the-tuskegee-airmen-community-open-house-2096
END:VEVENT

END:VCALENDAR
