BEGIN:VCALENDAR
VERSION:2.0
PRODID:-//ChamberMaster//Event Calendar 2.0//EN
METHOD:PUBLISH
X-PUBLISHED-TTL:P3D
REFRESH-INTERVAL:P3D
CALSCALE:GREGORIAN
BEGIN:VEVENT
DTSTART:20180602T233000Z
DTEND:20180603T050000Z
X-MICROSOFT-CDO-ALLDAYEVENT:FALSE
SUMMARY:Heritage - Swing Under the Wings
DESCRIPTION:https://www.eventbrite.com/e/heritage-swing-under-the-wings-tickets-44894283009
X-ALT-DESC;FMTTYPE=text/html:https://www.eventbrite.com/e/heritage-swing-under-the-wings-tickets-44894283009
LOCATION:
UID:e.1559.2097
SEQUENCE:3
DTSTAMP:20260419T171718Z
URL:https://business.vacavillechamber.com/events/details/heritage-swing-under-the-wings-2097
END:VEVENT

END:VCALENDAR
