BEGIN:VCALENDAR
VERSION:2.0
PRODID:-//ChamberMaster//Event Calendar 2.0//EN
METHOD:PUBLISH
X-PUBLISHED-TTL:P3D
REFRESH-INTERVAL:P3D
CALSCALE:GREGORIAN
BEGIN:VEVENT
DTSTART:20161116T010000Z
DTEND:20161116T020000Z
X-MICROSOFT-CDO-ALLDAYEVENT:FALSE
SUMMARY:Happy Tails Animal Hospital-Ribbon Cutting
DESCRIPTION:Join us in welcoming Happy Tails Animal Hospital to the Vacaville community!
X-ALT-DESC;FMTTYPE=text/html:Join us in welcoming Happy Tails Animal Hospital to the Vacaville community!&nbsp\;
LOCATION:617 Elmira Road Vacaville\, CA 95687
UID:e.1559.1926
SEQUENCE:3
DTSTAMP:20260420T184506Z
URL:https://business.vacavillechamber.com/events/details/happy-tails-animal-hospital-ribbon-cutting-1926
END:VEVENT

END:VCALENDAR
