BEGIN:VCALENDAR
VERSION:2.0
PRODID:-//ChamberMaster//Event Calendar 2.0//EN
METHOD:PUBLISH
X-PUBLISHED-TTL:P3D
REFRESH-INTERVAL:P3D
CALSCALE:GREGORIAN
BEGIN:VEVENT
DTSTART:20170429T170000Z
DTEND:20170429T230000Z
X-MICROSOFT-CDO-ALLDAYEVENT:FALSE
SUMMARY:Grand Opening Event- The Pet Shop
DESCRIPTION:Come join the fun! Raffle prizes\, free popcorn\, free pet tattoos\, free gift bags (first 100 people) and much more!!
X-ALT-DESC;FMTTYPE=text/html:Come join the fun! Raffle prizes\, free popcorn\, free pet tattoos\, free gift bags (first 100 people) and much more!!&nbsp\;&nbsp\;&nbsp\;&nbsp\;
LOCATION:The Pet Shop 630 Orange Drive\, Vacaville
UID:e.1559.1973
SEQUENCE:3
DTSTAMP:20260420T121748Z
URL:https://business.vacavillechamber.com/events/details/grand-opening-event-the-pet-shop-1973
END:VEVENT

END:VCALENDAR
