BEGIN:VCALENDAR
VERSION:2.0
PRODID:-//ChamberMaster//Event Calendar 2.0//EN
METHOD:PUBLISH
X-PUBLISHED-TTL:P3D
REFRESH-INTERVAL:P3D
CALSCALE:GREGORIAN
BEGIN:VEVENT
DTSTART:20180224T200000Z
DTEND:20180224T230000Z
X-MICROSOFT-CDO-ALLDAYEVENT:FALSE
SUMMARY:Grand Opening Comcast Xfinity
DESCRIPTION:Grand Opening of the Vacaville Comcast Xfinity Store
X-ALT-DESC;FMTTYPE=text/html:Grand Opening of the Vacaville Comcast Xfinity Store
LOCATION:1670 E Monte Vista Avenue Vacaville CA
UID:e.1559.2056
SEQUENCE:3
DTSTAMP:20260419T230455Z
URL:https://business.vacavillechamber.com/events/details/grand-opening-comcast-xfinity-2056
END:VEVENT

END:VCALENDAR
