BEGIN:VCALENDAR
VERSION:2.0
PRODID:-//ChamberMaster//Event Calendar 2.0//EN
METHOD:PUBLISH
X-PUBLISHED-TTL:P3D
REFRESH-INTERVAL:P3D
CALSCALE:GREGORIAN
BEGIN:VEVENT
DTSTART:20150529T160000Z
DTEND:20150529T190000Z
X-MICROSOFT-CDO-ALLDAYEVENT:FALSE
SUMMARY:GOTCHA!
DESCRIPTION:GOTCHA is a 2-day event that recognizes VUSD middle school and high school students for outstanding achievement in various areas. This program is sponsored by the Vacaville Chamber of Commerce.
X-ALT-DESC;FMTTYPE=text/html:GOTCHA is a 2-day event that recognizes VUSD middle school and high school students for outstanding achievement in various areas. This program is sponsored by the Vacaville Chamber of Commerce.
LOCATION:Stars Recreation 155 Browns Valley Parkway\, Vacaville\, CA 95688
UID:e.1559.1606
SEQUENCE:3
DTSTAMP:20260421T172335Z
URL:https://business.vacavillechamber.com/events/details/gotcha-05-29-2015-1606
END:VEVENT

END:VCALENDAR
