BEGIN:VCALENDAR
VERSION:2.0
PRODID:-//ChamberMaster//Event Calendar 2.0//EN
METHOD:PUBLISH
X-PUBLISHED-TTL:P3D
REFRESH-INTERVAL:P3D
CALSCALE:GREGORIAN
BEGIN:VEVENT
DTSTART:20160525T160000Z
DTEND:20160525T210000Z
X-MICROSOFT-CDO-ALLDAYEVENT:FALSE
SUMMARY:GOTCHA!
DESCRIPTION:Recognize middle school students' hard work with a day of fun!
X-ALT-DESC;FMTTYPE=text/html:Recognize middle school students&#39\; hard work with a day of fun!
LOCATION:Stars Recreation Center 155 Browns Valley Parkway
UID:e.1559.1782
SEQUENCE:3
DTSTAMP:20260421T021216Z
URL:https://business.vacavillechamber.com/events/details/gotcha-05-25-2016-1782
END:VEVENT

END:VCALENDAR
