BEGIN:VCALENDAR
VERSION:2.0
PRODID:-//ChamberMaster//Event Calendar 2.0//EN
METHOD:PUBLISH
X-PUBLISHED-TTL:P3D
REFRESH-INTERVAL:P3D
CALSCALE:GREGORIAN
BEGIN:VEVENT
DTSTART:20160524T160000Z
DTEND:20160524T210000Z
X-MICROSOFT-CDO-ALLDAYEVENT:FALSE
SUMMARY:GOTCHA!
DESCRIPTION:Recognize high school students' hard work with a day of fun!
X-ALT-DESC;FMTTYPE=text/html:Recognize high school students&#39\; hard work with a day of fun!
LOCATION:Stars Recreation Center 155 Browns Valley Parkway Vacaville
UID:e.1559.1781
SEQUENCE:3
DTSTAMP:20260421T020715Z
URL:https://business.vacavillechamber.com/events/details/gotcha-05-24-2016-1781
END:VEVENT

END:VCALENDAR
