BEGIN:VCALENDAR
VERSION:2.0
PRODID:-//ChamberMaster//Event Calendar 2.0//EN
METHOD:PUBLISH
X-PUBLISHED-TTL:P3D
REFRESH-INTERVAL:P3D
CALSCALE:GREGORIAN
BEGIN:VEVENT
DTSTART;VALUE=DATE:20160503
DTEND;VALUE=DATE:20160504
TRANSP:TRANSPARENT
X-MICROSOFT-CDO-ALLDAYEVENT:TRUE
SUMMARY:Give Local Solano
DESCRIPTION:Give Local Solano is a one-day national fundrasing event organized by Give Local America in an effort to build a culture of philanthropy\, locally and nationally.
X-ALT-DESC;FMTTYPE=text/html:Give Local Solano is a one-day national fundrasing<span style="line-height: 20.8px\;">&nbsp\;eve</span>nt organized by Give Local America in an effort to build a culture of philanthropy\, locally and nationally.
LOCATION:Online- www.solanocf.org or call 707-399-3846
UID:e.1559.1870
SEQUENCE:3
DTSTAMP:20260421T020811Z
URL:https://business.vacavillechamber.com/events/details/give-local-solano-05-03-2016-1870
END:VEVENT

END:VCALENDAR
