BEGIN:VCALENDAR
VERSION:2.0
PRODID:-//ChamberMaster//Event Calendar 2.0//EN
METHOD:PUBLISH
X-PUBLISHED-TTL:P3D
REFRESH-INTERVAL:P3D
CALSCALE:GREGORIAN
BEGIN:VEVENT
DTSTART:20150306T010000Z
DTEND:20150306T030000Z
X-MICROSOFT-CDO-ALLDAYEVENT:FALSE
SUMMARY:Free Antioxidant Scan - NUSKIN
DESCRIPTION:Come to this Chamber event and find out how healthy you are. Receive a free\, non-invasive antioxidant scan and learn what your score means. The level of antioxidants in your body is directly related to your overall health\, and responsible for preventing disease\; and not just colds and flu\, but the big stuff too: cancer\, Alzheimers\, heart disease\, diabetes.
X-ALT-DESC;FMTTYPE=text/html:<p><span style="font-family:comic sans ms">Come to this Chamber event and find out how healthy you are. Receive a free\, non-invasive antioxidant scan and learn what your score means. The level of antioxidants in your body is directly related to your overall health\, and responsible for preventing disease\; and not just colds and flu\, but the big stuff too: cancer\, Alzheimers\, heart disease\, diabetes.</span></p>\n
LOCATION:In-Shape Millennium Club 3446 Browns Valley Rd Vacaville\, CA 95688
UID:e.1559.1598
SEQUENCE:3
DTSTAMP:20260421T201530Z
URL:https://business.vacavillechamber.com/events/details/free-antioxidant-scan-nuskin-03-05-2015-1598
END:VEVENT

END:VCALENDAR
