BEGIN:VCALENDAR
VERSION:2.0
PRODID:-//ChamberMaster//Event Calendar 2.0//EN
METHOD:PUBLISH
X-PUBLISHED-TTL:P3D
REFRESH-INTERVAL:P3D
CALSCALE:GREGORIAN
BEGIN:VEVENT
DTSTART:20141120T180000Z
DTEND:20141120T230000Z
X-MICROSOFT-CDO-ALLDAYEVENT:FALSE
SUMMARY:Fraud Awareness and Prevention Fair
DESCRIPTION:DON'T BE A VICTIM TO FRAUD SCAMS!\n\n\n\nThe Public is invited to attend a "Fraud Awareness and Prevention Fair"\n\nThis event is hosted by the Solano County District Attorney's Office in Partnership with the Fairfield Police Department.\n\n\n\nMeet with Attorneys\, Police Officers and State Agency Representatives Specializing In:\n\nAuto Insurance Fraud\n\nConsumer Fraud\n\nReal Estate & Mortgage Fraud\n\nWelfare Fraud\n\nWorker's Compensation Fraud\n\n\n\nLearn About:\n\nDetection and Prevention of Identity Theft\n\nReal Estate Fraud Including Modification Scams
X-ALT-DESC;FMTTYPE=text/html:DON&#39\;T BE A VICTIM TO FRAUD SCAMS!<br />\n<br />\nThe Public is invited to attend a &quot\;Fraud Awareness and Prevention Fair&quot\;<br />\nThis event is hosted by the Solano County District Attorney&#39\;s Office in Partnership with the Fairfield Police Department.<br />\n<br />\nMeet with Attorneys\, Police Officers and State Agency Representatives Specializing In:<br />\nAuto Insurance Fraud<br />\nConsumer Fraud<br />\nReal Estate &amp\; Mortgage Fraud<br />\nWelfare Fraud<br />\nWorker&#39\;s Compensation Fraud<br />\n<br />\nLearn About:<br />\nDetection and Prevention of Identity Theft<br />\nReal Estate Fraud Including Modification Scams
LOCATION:Fairfield Community Center (Willow Hall) 1000 Kentucky Street Fairfield\, CA 94533
UID:e.1559.1576
SEQUENCE:3
DTSTAMP:20260422T014358Z
URL:https://business.vacavillechamber.com/events/details/fraud-awareness-and-prevention-fair-11-20-2014-1576
END:VEVENT

END:VCALENDAR
