BEGIN:VCALENDAR
VERSION:2.0
PRODID:-//ChamberMaster//Event Calendar 2.0//EN
METHOD:PUBLISH
X-PUBLISHED-TTL:P3D
REFRESH-INTERVAL:P3D
CALSCALE:GREGORIAN
BEGIN:VEVENT
DTSTART:20180927T003000Z
DTEND:20180927T023000Z
X-MICROSOFT-CDO-ALLDAYEVENT:FALSE
SUMMARY:First Responders' Appreciation Day
DESCRIPTION:First Responders' Appreciation Day
X-ALT-DESC;FMTTYPE=text/html:First Responders&#39\; Appreciation Day<br />\n&nbsp\;
LOCATION:Kaiser Permanente Vacaville
UID:e.1559.2086
SEQUENCE:3
DTSTAMP:20260419T125846Z
URL:https://business.vacavillechamber.com/events/details/first-responders-appreciation-day-2086
END:VEVENT

END:VCALENDAR
