BEGIN:VCALENDAR
VERSION:2.0
PRODID:-//ChamberMaster//Event Calendar 2.0//EN
METHOD:PUBLISH
X-PUBLISHED-TTL:P3D
REFRESH-INTERVAL:P3D
CALSCALE:GREGORIAN
BEGIN:VEVENT
DTSTART:20150522T003000Z
DTEND:20150522T020000Z
X-MICROSOFT-CDO-ALLDAYEVENT:FALSE
SUMMARY:First Responder Mixer at Kaiser Permanente
DESCRIPTION:Join us on Thursday\, May 21\, 2015 for our First Responders Mixer hosted by Kaiser Permanente!
X-ALT-DESC;FMTTYPE=text/html:Join us on Thursday\, May 21\, 2015 for our First Responders Mixer hosted by Kaiser Permanente!
LOCATION:1 Quality Drive\, Vacaville\, CA 95688
UID:e.1559.1605
SEQUENCE:3
DTSTAMP:20260421T172833Z
URL:https://business.vacavillechamber.com/events/details/first-responder-mixer-at-kaiser-permanente-05-21-2015-1605
END:VEVENT

END:VCALENDAR
