BEGIN:VCALENDAR
VERSION:2.0
PRODID:-//ChamberMaster//Event Calendar 2.0//EN
METHOD:PUBLISH
X-PUBLISHED-TTL:P3D
REFRESH-INTERVAL:P3D
CALSCALE:GREGORIAN
BEGIN:VEVENT
DTSTART:20170928T003000Z
DTEND:20170928T023000Z
X-MICROSOFT-CDO-ALLDAYEVENT:FALSE
SUMMARY:First Responder Appreciation Day
DESCRIPTION:Mark your calendar today to join Kaiser Permanente as we honor our partners who keep Napa\, Solano and Yolo Counties safe and thriving.  Look for more information coming soon on how you can nominate a first responder for a 2017 Kaiser Permanente EMS Award!
X-ALT-DESC;FMTTYPE=text/html:<span style="color: rgb(255\, 255\, 255)\; font-family: Arial\, Verdana\, Helvetica\, sans-serif\; font-size: 16px\; background-color: rgb(54\, 138\, 156)\;">Mark your calendar today to join Kaiser Permanente as we honor our partners who keep Napa\, Solano and Yolo Counties safe and thriving.&nbsp\; Look for more information coming soon on how you can nominate a first responder for a 2017 Kaiser Permanente EMS Award!</span><br />\n<br />\n&nbsp\;
LOCATION:Kaiser Permanente Vacaville Medical Center One Quality Drive\, Vacaville
UID:e.1559.1996
SEQUENCE:3
DTSTAMP:20260420T053411Z
URL:https://business.vacavillechamber.com/events/details/first-responder-appreciation-day-1996
END:VEVENT

END:VCALENDAR
