BEGIN:VCALENDAR
VERSION:2.0
PRODID:-//ChamberMaster//Event Calendar 2.0//EN
METHOD:PUBLISH
X-PUBLISHED-TTL:P3D
REFRESH-INTERVAL:P3D
CALSCALE:GREGORIAN
BEGIN:VEVENT
DTSTART:20160522T003000Z
DTEND:20160522T030000Z
X-MICROSOFT-CDO-ALLDAYEVENT:FALSE
SUMMARY:Fiesta Days Marshals Corner
DESCRIPTION:Fiesta Days Marshals Corner\n\nCome join us for a Western Theme Barbecue honoring all past Grand Marshals of Fiesta Days. Wear your Western Attire and be ready to have fun!\n\nDinner\, Music\, & Raffle
X-ALT-DESC;FMTTYPE=text/html:Fiesta Days Marshals Corner<br />\nCome join us for a Western Theme Barbecue honoring all past Grand Marshals of Fiesta Days. Wear your Western Attire and be ready to have fun!<br />\nDinner\, Music\, &amp\; Raffle<br />\n&nbsp\;
LOCATION:McBride Center 91 Town Square Vacaville\, CA 95688
UID:e.1559.1825
SEQUENCE:3
DTSTAMP:20260421T020807Z
URL:https://business.vacavillechamber.com/events/details/fiesta-days-marshals-corner-05-21-2016-1825
END:VEVENT

END:VCALENDAR
