BEGIN:VCALENDAR
VERSION:2.0
PRODID:-//ChamberMaster//Event Calendar 2.0//EN
METHOD:PUBLISH
X-PUBLISHED-TTL:P3D
REFRESH-INTERVAL:P3D
CALSCALE:GREGORIAN
BEGIN:VEVENT
DTSTART:20180908T180000Z
DTEND:20180910T030000Z
X-MICROSOFT-CDO-ALLDAYEVENT:FALSE
SUMMARY:Festival In The Park
DESCRIPTION:Come and join us for this family event\, Festival In The Park! \n\n\n\nEnjoy Entertainment\, Food Trucks & local Food Vendors\, Beverages\, Kids Zone and more!
X-ALT-DESC;FMTTYPE=text/html:Come and join us for this family event\, Festival In The Park!&nbsp\;<br />\n<br />\nEnjoy Entertainment\, Food Trucks &amp\; local Food Vendors\, Beverages\, Kids Zone and more!&nbsp\;&nbsp\;&nbsp\;&nbsp\;&nbsp\;&nbsp\;&nbsp\;&nbsp\;
LOCATION:Pena Adobe Park\, Vacaville CA
UID:e.1559.2090
SEQUENCE:3
DTSTAMP:20260419T130555Z
URL:https://business.vacavillechamber.com/events/details/festival-in-the-park-2090
END:VEVENT

END:VCALENDAR
