BEGIN:VCALENDAR
VERSION:2.0
PRODID:-//ChamberMaster//Event Calendar 2.0//EN
METHOD:PUBLISH
X-PUBLISHED-TTL:P3D
REFRESH-INTERVAL:P3D
CALSCALE:GREGORIAN
BEGIN:VEVENT
DTSTART:20180502T170000Z
DTEND:20180502T190000Z
X-MICROSOFT-CDO-ALLDAYEVENT:FALSE
SUMMARY:Entrepreneurs Round Table- Informational Meeting
DESCRIPTION:Every Entrepreneur who is starting a business\, growing a business or is operating one or more businesses should check out this unique group. The desire to build your destiny is commendable and the best resource for success is having access to other Entrepreneurs. A facilitator will lead the group to identify opportunities\, needs and resources.\n\n\n\nChamber Membership is not required\, all entrepreneurs are welcome to participate!
X-ALT-DESC;FMTTYPE=text/html:<span style="color: rgb(29\, 33\, 41)\; font-family: Helvetica\, Arial\, sans-serif\; font-size: 14px\;">Every Entrepreneur who is starting a business\, growing a business or is operating one or more businesses should check out this unique group. The desire to build your destiny is commendable and the best resource for success is having access to other Entrepreneurs. A facilitator will lead the group to identify opportunities\, needs and resources.</span><br style="color: rgb(29\, 33\, 41)\; font-family: Helvetica\, Arial\, sans-serif\; font-size: 14px\;" />\n<br style="color: rgb(29\, 33\, 41)\; font-family: Helvetica\, Arial\, sans-serif\; font-size: 14px\;" />\n<span style="color: rgb(29\, 33\, 41)\; font-family: Helvetica\, Arial\, sans-serif\; font-size: 14px\;">Chamber Membership is not required\, all entrepreneurs are welcome to participate!</span>
LOCATION:Vacaville Chamber of Commerce 300 Main Street\, Suite A Vacaville\, CA 95688
UID:e.1559.2093
SEQUENCE:3
DTSTAMP:20260419T184340Z
URL:https://business.vacavillechamber.com/events/details/entrepreneurs-round-table-informational-meeting-2093
END:VEVENT

END:VCALENDAR
