BEGIN:VCALENDAR
VERSION:2.0
PRODID:-//ChamberMaster//Event Calendar 2.0//EN
METHOD:PUBLISH
X-PUBLISHED-TTL:P3D
REFRESH-INTERVAL:P3D
CALSCALE:GREGORIAN
BEGIN:VEVENT
DTSTART:20160507T230000Z
DTEND:20160508T020000Z
X-MICROSOFT-CDO-ALLDAYEVENT:FALSE
SUMMARY:Downtown Vacaville- Wine Stroll
DESCRIPTION:Come by and see us for the Downtown Vacaville Wine Stroll. Start your night in Town Square\, $15 for a glass & 6 Tastes.
X-ALT-DESC;FMTTYPE=text/html:Come by and see us for the Downtown Vacaville Wine Stroll. Start your night in Town Square\, $15 for a glass &amp\; 6 Tastes.
LOCATION:Downtown Vacaville
UID:e.1559.1860
SEQUENCE:3
DTSTAMP:20260421T020818Z
URL:https://business.vacavillechamber.com/events/details/downtown-vacaville-wine-stroll-05-07-2016-1860
END:VEVENT

END:VCALENDAR
