BEGIN:VCALENDAR
VERSION:2.0
PRODID:-//ChamberMaster//Event Calendar 2.0//EN
METHOD:PUBLISH
X-PUBLISHED-TTL:P3D
REFRESH-INTERVAL:P3D
CALSCALE:GREGORIAN
BEGIN:VEVENT
DTSTART:20151030T230000Z
DTEND:20151031T010000Z
X-MICROSOFT-CDO-ALLDAYEVENT:FALSE
SUMMARY:Downtown Vacaville Halloween Stroll
DESCRIPTION:Local businesses provide treats to community kids.
X-ALT-DESC;FMTTYPE=text/html:Local businesses provide treats to community kids.
LOCATION:Main Street Vacaville
UID:e.1559.1786
SEQUENCE:3
DTSTAMP:20260421T105355Z
URL:https://business.vacavillechamber.com/events/details/downtown-vacaville-halloween-stroll-10-30-2015-1786
END:VEVENT

END:VCALENDAR
