BEGIN:VCALENDAR
VERSION:2.0
PRODID:-//ChamberMaster//Event Calendar 2.0//EN
METHOD:PUBLISH
X-PUBLISHED-TTL:P3D
REFRESH-INTERVAL:P3D
CALSCALE:GREGORIAN
BEGIN:VEVENT
DTSTART:20171031T230000Z
DTEND:20171101T010000Z
X-MICROSOFT-CDO-ALLDAYEVENT:FALSE
SUMMARY:Downtown Halloween Stroll
DESCRIPTION:Halloween Stroll
X-ALT-DESC;FMTTYPE=text/html:Halloween Stroll
LOCATION:Downtown Vacaville
UID:e.1559.2024
SEQUENCE:3
DTSTAMP:20260420T041446Z
URL:https://business.vacavillechamber.com/events/details/downtown-halloween-stroll-2024
END:VEVENT

END:VCALENDAR
