BEGIN:VCALENDAR
VERSION:2.0
PRODID:-//ChamberMaster//Event Calendar 2.0//EN
METHOD:PUBLISH
X-PUBLISHED-TTL:P3D
REFRESH-INTERVAL:P3D
CALSCALE:GREGORIAN
BEGIN:VEVENT
DTSTART:20180911T160000Z
DTEND:20180911T180000Z
X-MICROSOFT-CDO-ALLDAYEVENT:FALSE
SUMMARY:Cup of Joe
DESCRIPTION:https://www.eventbrite.com/e/cup-of-joe-tickets-44566736308
X-ALT-DESC;FMTTYPE=text/html:https://www.eventbrite.com/e/cup-of-joe-tickets-44566736308
LOCATION:
UID:e.1559.2500
SEQUENCE:3
DTSTAMP:20260419T130822Z
URL:https://business.vacavillechamber.com/events/details/cup-of-joe-09-11-2018-2500
END:VEVENT

END:VCALENDAR
