BEGIN:VCALENDAR
VERSION:2.0
PRODID:-//ChamberMaster//Event Calendar 2.0//EN
METHOD:PUBLISH
X-PUBLISHED-TTL:P3D
REFRESH-INTERVAL:P3D
CALSCALE:GREGORIAN
BEGIN:VEVENT
DTSTART:20180501T010000Z
DTEND:20180501T030000Z
X-MICROSOFT-CDO-ALLDAYEVENT:FALSE
SUMMARY:CPR Training-Fundraiser for PSA Solano County
DESCRIPTION:Proceeds will hel send children through FSUSD's Public Safety Academy. The PSA's mission is to develop college and career ready cadets\, with an emphasis on the Public Safety Field\, through a process of rigorous academics realistic hands-on training\, fitness\, discipline\, attitude and leadership development.
X-ALT-DESC;FMTTYPE=text/html:Proceeds will hel send children through FSUSD&#39\;s Public Safety Academy. The PSA&#39\;s mission is to develop college and career ready cadets\, with an emphasis on the Public Safety&nbsp\;Field\, through a process of rigorous academics realistic hands-on training\, fitness\, discipline\, attitude and leadership development.&nbsp\;&nbsp\;
LOCATION:Brandman University 2450 Martin Rd Fairfield\, CA
UID:e.1559.2081
SEQUENCE:3
DTSTAMP:20260419T200957Z
URL:https://business.vacavillechamber.com/events/details/cpr-training-fundraiser-for-psa-solano-county-2081
END:VEVENT

END:VCALENDAR
