BEGIN:VCALENDAR
VERSION:2.0
PRODID:-//ChamberMaster//Event Calendar 2.0//EN
METHOD:PUBLISH
X-PUBLISHED-TTL:P3D
REFRESH-INTERVAL:P3D
CALSCALE:GREGORIAN
BEGIN:VEVENT
DTSTART;VALUE=DATE:20160909
DTEND;VALUE=DATE:20160910
TRANSP:TRANSPARENT
X-MICROSOFT-CDO-ALLDAYEVENT:TRUE
SUMMARY:Cowtown Classic
DESCRIPTION:The Vacaville Chamber Annual Cowtown Classic Golf Tournament! Hosted at Hiddenbrooke Golf Club\, this day will be filled with not only a scramble event we will have raffles\, contests\, interactive holes and more!!
X-ALT-DESC;FMTTYPE=text/html:The Vacaville Chamber Annual Cowtown&nbsp\;Classic Golf Tournament! Hosted at Hiddenbrooke&nbsp\;Golf Club\, this day will be filled with not only a scramble event we will have raffles\, contests\, interactive holes and more!!
LOCATION:Hiddenbrooke Golf Club 1095 Hiddenbrooke Golf Club Vallejo\, CA 94591
UID:e.1559.1889
SEQUENCE:3
DTSTAMP:20260420T210622Z
URL:https://business.vacavillechamber.com/events/details/cowtown-classic-09-09-2016-1889
END:VEVENT

END:VCALENDAR
