BEGIN:VCALENDAR
VERSION:2.0
PRODID:-//ChamberMaster//Event Calendar 2.0//EN
METHOD:PUBLISH
X-PUBLISHED-TTL:P3D
REFRESH-INTERVAL:P3D
CALSCALE:GREGORIAN
BEGIN:VEVENT
DTSTART;VALUE=DATE:20161226
DTEND;VALUE=DATE:20161231
TRANSP:TRANSPARENT
X-MICROSOFT-CDO-ALLDAYEVENT:TRUE
SUMMARY:Christmas Holiday - Office Closed
DESCRIPTION:We wish you a Merry Christmas and a Happy New Year!
X-ALT-DESC;FMTTYPE=text/html:We wish you a Merry Christmas and a Happy New Year!
LOCATION:
UID:e.1559.1934
SEQUENCE:3
DTSTAMP:20260420T173022Z
URL:https://business.vacavillechamber.com/events/details/christmas-holiday-office-closed-1934
END:VEVENT

END:VCALENDAR
