BEGIN:VCALENDAR
VERSION:2.0
PRODID:-//ChamberMaster//Event Calendar 2.0//EN
METHOD:PUBLISH
X-PUBLISHED-TTL:P3D
REFRESH-INTERVAL:P3D
CALSCALE:GREGORIAN
BEGIN:VEVENT
DTSTART:20141106T170000Z
DTEND:20141106T173000Z
X-MICROSOFT-CDO-ALLDAYEVENT:FALSE
SUMMARY:Chick-fil-A\, Vacaville Commons Grand Opening/Ribbon Cutting Event
DESCRIPTION:Chick-fil-A\, Cordially invites you to attend a special V.I.P "First Bite" Ceremony for the Grand Opening/Ribbon Cutting. Join us as Todd Keller\, Restaurant Operator\, opens the Restaurant!
X-ALT-DESC;FMTTYPE=text/html:Chick-fil-A\, Cordially invites you to attend a special V.I.P &quot\;First Bite&quot\; Ceremony for the Grand Opening/Ribbon Cutting. Join us as&nbsp\;Todd Keller\, Restaurant Operator\, opens the Restaurant!
LOCATION:2081 Harbison Drive Vacaville\, Ca 95687 Located just off Nut Tree Pkwy\, between Allison Pkwy and Harbison Drive.
UID:e.1559.1580
SEQUENCE:3
DTSTAMP:20260422T014705Z
URL:https://business.vacavillechamber.com/events/details/chick-fil-a-vacaville-commons-grand-opening-ribbon-cutting-event-11-06-2014-1580
END:VEVENT

END:VCALENDAR
