BEGIN:VCALENDAR
VERSION:2.0
PRODID:-//ChamberMaster//Event Calendar 2.0//EN
METHOD:PUBLISH
X-PUBLISHED-TTL:P3D
REFRESH-INTERVAL:P3D
CALSCALE:GREGORIAN
BEGIN:VEVENT
DTSTART:20150501T003000Z
DTEND:20150501T030000Z
X-MICROSOFT-CDO-ALLDAYEVENT:FALSE
SUMMARY:Champions for Children
DESCRIPTION:Honoring individual leaders and businesses who champion the health and well-being of Solano's children.
X-ALT-DESC;FMTTYPE=text/html:Honoring individual leaders and businesses who champion the health and well-being of Solano&rsquo\;s children.
LOCATION:Hiddenbrooke Gold Club\, Vallejo
UID:e.1559.1610
SEQUENCE:3
DTSTAMP:20260421T185027Z
URL:https://business.vacavillechamber.com/events/details/champions-for-children-04-30-2015-1610
END:VEVENT

END:VCALENDAR
