BEGIN:VCALENDAR
VERSION:2.0
PRODID:-//ChamberMaster//Event Calendar 2.0//EN
METHOD:PUBLISH
X-PUBLISHED-TTL:P3D
REFRESH-INTERVAL:P3D
CALSCALE:GREGORIAN
BEGIN:VEVENT
DTSTART;VALUE=DATE:20180219
DTEND;VALUE=DATE:20180220
TRANSP:TRANSPARENT
X-MICROSOFT-CDO-ALLDAYEVENT:TRUE
SUMMARY:Chamber office closed
DESCRIPTION:Office closed in observance of President's Day.
X-ALT-DESC;FMTTYPE=text/html:Office closed in observance of President&rsquo\;s Day.
LOCATION:
UID:e.1559.2061
SEQUENCE:3
DTSTAMP:20260419T225706Z
URL:https://business.vacavillechamber.com/events/details/chamber-office-closed-2061
END:VEVENT

END:VCALENDAR
