BEGIN:VCALENDAR
VERSION:2.0
PRODID:-//ChamberMaster//Event Calendar 2.0//EN
METHOD:PUBLISH
X-PUBLISHED-TTL:P3D
REFRESH-INTERVAL:P3D
CALSCALE:GREGORIAN
BEGIN:VEVENT
DTSTART:20180602T170000Z
DTEND:20180602T190000Z
X-MICROSOFT-CDO-ALLDAYEVENT:FALSE
SUMMARY:Car Show & BBQ
DESCRIPTION:Car Show & BBQ
X-ALT-DESC;FMTTYPE=text/html:Car Show &amp\; BBQ
LOCATION:Vaca Valley Living a memory care community 80 Orange Tree Circle\, Vacaville
UID:e.1559.2078
SEQUENCE:3
DTSTAMP:20260419T171621Z
URL:https://business.vacavillechamber.com/events/details/car-show-bbq-2078
END:VEVENT

END:VCALENDAR
