BEGIN:VCALENDAR
VERSION:2.0
PRODID:-//ChamberMaster//Event Calendar 2.0//EN
METHOD:PUBLISH
X-PUBLISHED-TTL:P3D
REFRESH-INTERVAL:P3D
CALSCALE:GREGORIAN
BEGIN:VEVENT
DTSTART:20171013T160000Z
DTEND:20171013T170000Z
X-MICROSOFT-CDO-ALLDAYEVENT:FALSE
SUMMARY:CANCELED - Business Issues Educational Forum
DESCRIPTION:The Business Issues Educational Forum monitors\, evaluates and acts upon proposed city\, county\, and state issues which could effect the Vacaville business community.
X-ALT-DESC;FMTTYPE=text/html:<p>The Business Issues Educational Forum monitors\, evaluates and acts upon proposed city\, county\, and state issues which could effect the Vacaville business community.&nbsp\;</p>\n
LOCATION:Community Room at Travis Credit Union Corporate Office. 1 Travis Way\, Vacaville\, CA 95688.
UID:e.1559.189
SEQUENCE:3
DTSTAMP:20260420T041454Z
URL:https://business.vacavillechamber.com/events/details/canceled-business-issues-educational-forum-189
END:VEVENT

END:VCALENDAR
