BEGIN:VCALENDAR
VERSION:2.0
PRODID:-//ChamberMaster//Event Calendar 2.0//EN
METHOD:PUBLISH
X-PUBLISHED-TTL:P3D
REFRESH-INTERVAL:P3D
CALSCALE:GREGORIAN
BEGIN:VEVENT
DTSTART:20150904T003000Z
DTEND:20150904T020000Z
X-MICROSOFT-CDO-ALLDAYEVENT:FALSE
SUMMARY:CANCELED - Business After Hours Mixer
DESCRIPTION:The September Mixer has been canceled. Join us at the Wake Up on Tuesday\, September 15 at Visit Vacaville
X-ALT-DESC;FMTTYPE=text/html:The September Mixer has been canceled. Join us at the Wake Up on Tuesday\, September 15 at Visit Vacaville
LOCATION:
UID:e.1559.1761
SEQUENCE:3
DTSTAMP:20260421T120247Z
URL:https://business.vacavillechamber.com/events/details/canceled-business-after-hours-mixer-09-03-2015-1761
END:VEVENT

END:VCALENDAR
